BEGIN:VCALENDAR
VERSION:2.0
PRODID:-//Joppa-Magnolia Volunteer Fire Company - ECPv6.15.20//NONSGML v1.0//EN
CALSCALE:GREGORIAN
METHOD:PUBLISH
X-WR-CALNAME:Joppa-Magnolia Volunteer Fire Company
X-ORIGINAL-URL:https://jmvfc.org
X-WR-CALDESC:Events for Joppa-Magnolia Volunteer Fire Company
REFRESH-INTERVAL;VALUE=DURATION:PT1H
X-Robots-Tag:noindex
X-PUBLISHED-TTL:PT1H
BEGIN:VTIMEZONE
TZID:America/New_York
BEGIN:DAYLIGHT
TZOFFSETFROM:-0500
TZOFFSETTO:-0400
TZNAME:EDT
DTSTART:20260308T070000
END:DAYLIGHT
BEGIN:STANDARD
TZOFFSETFROM:-0400
TZOFFSETTO:-0500
TZNAME:EST
DTSTART:20261101T060000
END:STANDARD
BEGIN:DAYLIGHT
TZOFFSETFROM:-0500
TZOFFSETTO:-0400
TZNAME:EDT
DTSTART:20270314T070000
END:DAYLIGHT
BEGIN:STANDARD
TZOFFSETFROM:-0400
TZOFFSETTO:-0500
TZNAME:EST
DTSTART:20271107T060000
END:STANDARD
BEGIN:DAYLIGHT
TZOFFSETFROM:-0500
TZOFFSETTO:-0400
TZNAME:EDT
DTSTART:20280312T070000
END:DAYLIGHT
BEGIN:STANDARD
TZOFFSETFROM:-0400
TZOFFSETTO:-0500
TZNAME:EST
DTSTART:20281105T060000
END:STANDARD
BEGIN:DAYLIGHT
TZOFFSETFROM:-0500
TZOFFSETTO:-0400
TZNAME:EDT
DTSTART:20290311T070000
END:DAYLIGHT
BEGIN:STANDARD
TZOFFSETFROM:-0400
TZOFFSETTO:-0500
TZNAME:EST
DTSTART:20291104T060000
END:STANDARD
END:VTIMEZONE
BEGIN:VEVENT
DTSTART;TZID=America/New_York:20270915T170000
DTEND;TZID=America/New_York:20270915T220000
DTSTAMP:20260424T092415
CREATED:20241122T155312Z
LAST-MODIFIED:20251119T114554Z
UID:10000468-1821027600-1821045600@jmvfc.org
SUMMARY:Wednesday Night Bingo
DESCRIPTION:$590 Jackpot\n\nDoors Open 5pm\nBINGO Play Starts 7pm\n\n 
URL:https://jmvfc.org/event/bingo-2-2-2-2-2/2027-09-15/
LOCATION:Joppa-Magnolia VFC Co. 8 House 1\, 1403 Old Mountain Road South\, Joppa\, MD\, 21040\, United States
CATEGORIES:Bingo
ATTACH;FMTTYPE=image/jpeg:https://jmvfc.org/wp-content/uploads/2023/10/AdobeStock_95164576.jpg
END:VEVENT
BEGIN:VEVENT
DTSTART;TZID=America/New_York:20270922T170000
DTEND;TZID=America/New_York:20270922T220000
DTSTAMP:20260424T092415
CREATED:20241122T155312Z
LAST-MODIFIED:20251119T114554Z
UID:10000469-1821632400-1821650400@jmvfc.org
SUMMARY:Wednesday Night Bingo
DESCRIPTION:$590 Jackpot\n\nDoors Open 5pm\nBINGO Play Starts 7pm\n\n 
URL:https://jmvfc.org/event/bingo-2-2-2-2-2/2027-09-22/
LOCATION:Joppa-Magnolia VFC Co. 8 House 1\, 1403 Old Mountain Road South\, Joppa\, MD\, 21040\, United States
CATEGORIES:Bingo
ATTACH;FMTTYPE=image/jpeg:https://jmvfc.org/wp-content/uploads/2023/10/AdobeStock_95164576.jpg
END:VEVENT
BEGIN:VEVENT
DTSTART;TZID=America/New_York:20270929T170000
DTEND;TZID=America/New_York:20270929T220000
DTSTAMP:20260424T092415
CREATED:20241122T155312Z
LAST-MODIFIED:20251119T114554Z
UID:10000470-1822237200-1822255200@jmvfc.org
SUMMARY:Wednesday Night Bingo
DESCRIPTION:$590 Jackpot\n\nDoors Open 5pm\nBINGO Play Starts 7pm\n\n 
URL:https://jmvfc.org/event/bingo-2-2-2-2-2/2027-09-29/
LOCATION:Joppa-Magnolia VFC Co. 8 House 1\, 1403 Old Mountain Road South\, Joppa\, MD\, 21040\, United States
CATEGORIES:Bingo
ATTACH;FMTTYPE=image/jpeg:https://jmvfc.org/wp-content/uploads/2023/10/AdobeStock_95164576.jpg
END:VEVENT
BEGIN:VEVENT
DTSTART;TZID=America/New_York:20271006T170000
DTEND;TZID=America/New_York:20271006T220000
DTSTAMP:20260424T092415
CREATED:20241122T155312Z
LAST-MODIFIED:20251119T114554Z
UID:10000471-1822842000-1822860000@jmvfc.org
SUMMARY:Wednesday Night Bingo
DESCRIPTION:$590 Jackpot\n\nDoors Open 5pm\nBINGO Play Starts 7pm\n\n 
URL:https://jmvfc.org/event/bingo-2-2-2-2-2/2027-10-06/
LOCATION:Joppa-Magnolia VFC Co. 8 House 1\, 1403 Old Mountain Road South\, Joppa\, MD\, 21040\, United States
CATEGORIES:Bingo
ATTACH;FMTTYPE=image/jpeg:https://jmvfc.org/wp-content/uploads/2023/10/AdobeStock_95164576.jpg
END:VEVENT
BEGIN:VEVENT
DTSTART;TZID=America/New_York:20271013T170000
DTEND;TZID=America/New_York:20271013T220000
DTSTAMP:20260424T092415
CREATED:20241122T155312Z
LAST-MODIFIED:20251119T114554Z
UID:10000472-1823446800-1823464800@jmvfc.org
SUMMARY:Wednesday Night Bingo
DESCRIPTION:$590 Jackpot\n\nDoors Open 5pm\nBINGO Play Starts 7pm\n\n 
URL:https://jmvfc.org/event/bingo-2-2-2-2-2/2027-10-13/
LOCATION:Joppa-Magnolia VFC Co. 8 House 1\, 1403 Old Mountain Road South\, Joppa\, MD\, 21040\, United States
CATEGORIES:Bingo
ATTACH;FMTTYPE=image/jpeg:https://jmvfc.org/wp-content/uploads/2023/10/AdobeStock_95164576.jpg
END:VEVENT
BEGIN:VEVENT
DTSTART;TZID=America/New_York:20271020T170000
DTEND;TZID=America/New_York:20271020T220000
DTSTAMP:20260424T092415
CREATED:20241122T155312Z
LAST-MODIFIED:20251119T114554Z
UID:10000473-1824051600-1824069600@jmvfc.org
SUMMARY:Wednesday Night Bingo
DESCRIPTION:$590 Jackpot\n\nDoors Open 5pm\nBINGO Play Starts 7pm\n\n 
URL:https://jmvfc.org/event/bingo-2-2-2-2-2/2027-10-20/
LOCATION:Joppa-Magnolia VFC Co. 8 House 1\, 1403 Old Mountain Road South\, Joppa\, MD\, 21040\, United States
CATEGORIES:Bingo
ATTACH;FMTTYPE=image/jpeg:https://jmvfc.org/wp-content/uploads/2023/10/AdobeStock_95164576.jpg
END:VEVENT
BEGIN:VEVENT
DTSTART;TZID=America/New_York:20271027T170000
DTEND;TZID=America/New_York:20271027T220000
DTSTAMP:20260424T092415
CREATED:20241122T155312Z
LAST-MODIFIED:20251119T114554Z
UID:10000474-1824656400-1824674400@jmvfc.org
SUMMARY:Wednesday Night Bingo
DESCRIPTION:$590 Jackpot\n\nDoors Open 5pm\nBINGO Play Starts 7pm\n\n 
URL:https://jmvfc.org/event/bingo-2-2-2-2-2/2027-10-27/
LOCATION:Joppa-Magnolia VFC Co. 8 House 1\, 1403 Old Mountain Road South\, Joppa\, MD\, 21040\, United States
CATEGORIES:Bingo
ATTACH;FMTTYPE=image/jpeg:https://jmvfc.org/wp-content/uploads/2023/10/AdobeStock_95164576.jpg
END:VEVENT
BEGIN:VEVENT
DTSTART;TZID=America/New_York:20271103T170000
DTEND;TZID=America/New_York:20271103T220000
DTSTAMP:20260424T092415
CREATED:20241122T155312Z
LAST-MODIFIED:20251119T114554Z
UID:10000475-1825261200-1825279200@jmvfc.org
SUMMARY:Wednesday Night Bingo
DESCRIPTION:$590 Jackpot\n\nDoors Open 5pm\nBINGO Play Starts 7pm\n\n 
URL:https://jmvfc.org/event/bingo-2-2-2-2-2/2027-11-03/
LOCATION:Joppa-Magnolia VFC Co. 8 House 1\, 1403 Old Mountain Road South\, Joppa\, MD\, 21040\, United States
CATEGORIES:Bingo
ATTACH;FMTTYPE=image/jpeg:https://jmvfc.org/wp-content/uploads/2023/10/AdobeStock_95164576.jpg
END:VEVENT
BEGIN:VEVENT
DTSTART;TZID=America/New_York:20271110T170000
DTEND;TZID=America/New_York:20271110T220000
DTSTAMP:20260424T092415
CREATED:20241122T155312Z
LAST-MODIFIED:20251119T114554Z
UID:10000476-1825866000-1825884000@jmvfc.org
SUMMARY:Wednesday Night Bingo
DESCRIPTION:$590 Jackpot\n\nDoors Open 5pm\nBINGO Play Starts 7pm\n\n 
URL:https://jmvfc.org/event/bingo-2-2-2-2-2/2027-11-10/
LOCATION:Joppa-Magnolia VFC Co. 8 House 1\, 1403 Old Mountain Road South\, Joppa\, MD\, 21040\, United States
CATEGORIES:Bingo
ATTACH;FMTTYPE=image/jpeg:https://jmvfc.org/wp-content/uploads/2023/10/AdobeStock_95164576.jpg
END:VEVENT
BEGIN:VEVENT
DTSTART;TZID=America/New_York:20271117T170000
DTEND;TZID=America/New_York:20271117T220000
DTSTAMP:20260424T092415
CREATED:20241122T155312Z
LAST-MODIFIED:20251119T114554Z
UID:10000477-1826470800-1826488800@jmvfc.org
SUMMARY:Wednesday Night Bingo
DESCRIPTION:$590 Jackpot\n\nDoors Open 5pm\nBINGO Play Starts 7pm\n\n 
URL:https://jmvfc.org/event/bingo-2-2-2-2-2/2027-11-17/
LOCATION:Joppa-Magnolia VFC Co. 8 House 1\, 1403 Old Mountain Road South\, Joppa\, MD\, 21040\, United States
CATEGORIES:Bingo
ATTACH;FMTTYPE=image/jpeg:https://jmvfc.org/wp-content/uploads/2023/10/AdobeStock_95164576.jpg
END:VEVENT
BEGIN:VEVENT
DTSTART;TZID=America/New_York:20271124T170000
DTEND;TZID=America/New_York:20271124T220000
DTSTAMP:20260424T092415
CREATED:20241122T155312Z
LAST-MODIFIED:20251119T114554Z
UID:10000478-1827075600-1827093600@jmvfc.org
SUMMARY:Wednesday Night Bingo
DESCRIPTION:$590 Jackpot\n\nDoors Open 5pm\nBINGO Play Starts 7pm\n\n 
URL:https://jmvfc.org/event/bingo-2-2-2-2-2/2027-11-24/
LOCATION:Joppa-Magnolia VFC Co. 8 House 1\, 1403 Old Mountain Road South\, Joppa\, MD\, 21040\, United States
CATEGORIES:Bingo
ATTACH;FMTTYPE=image/jpeg:https://jmvfc.org/wp-content/uploads/2023/10/AdobeStock_95164576.jpg
END:VEVENT
BEGIN:VEVENT
DTSTART;TZID=America/New_York:20271201T170000
DTEND;TZID=America/New_York:20271201T220000
DTSTAMP:20260424T092415
CREATED:20241122T155312Z
LAST-MODIFIED:20251119T114554Z
UID:10000479-1827680400-1827698400@jmvfc.org
SUMMARY:Wednesday Night Bingo
DESCRIPTION:$590 Jackpot\n\nDoors Open 5pm\nBINGO Play Starts 7pm\n\n 
URL:https://jmvfc.org/event/bingo-2-2-2-2-2/2027-12-01/
LOCATION:Joppa-Magnolia VFC Co. 8 House 1\, 1403 Old Mountain Road South\, Joppa\, MD\, 21040\, United States
CATEGORIES:Bingo
ATTACH;FMTTYPE=image/jpeg:https://jmvfc.org/wp-content/uploads/2023/10/AdobeStock_95164576.jpg
END:VEVENT
BEGIN:VEVENT
DTSTART;TZID=America/New_York:20271208T170000
DTEND;TZID=America/New_York:20271208T220000
DTSTAMP:20260424T092415
CREATED:20241122T155312Z
LAST-MODIFIED:20251119T114554Z
UID:10000480-1828285200-1828303200@jmvfc.org
SUMMARY:Wednesday Night Bingo
DESCRIPTION:$590 Jackpot\n\nDoors Open 5pm\nBINGO Play Starts 7pm\n\n 
URL:https://jmvfc.org/event/bingo-2-2-2-2-2/2027-12-08/
LOCATION:Joppa-Magnolia VFC Co. 8 House 1\, 1403 Old Mountain Road South\, Joppa\, MD\, 21040\, United States
CATEGORIES:Bingo
ATTACH;FMTTYPE=image/jpeg:https://jmvfc.org/wp-content/uploads/2023/10/AdobeStock_95164576.jpg
END:VEVENT
BEGIN:VEVENT
DTSTART;TZID=America/New_York:20271215T170000
DTEND;TZID=America/New_York:20271215T220000
DTSTAMP:20260424T092415
CREATED:20241122T155312Z
LAST-MODIFIED:20251119T114554Z
UID:10000481-1828890000-1828908000@jmvfc.org
SUMMARY:Wednesday Night Bingo
DESCRIPTION:$590 Jackpot\n\nDoors Open 5pm\nBINGO Play Starts 7pm\n\n 
URL:https://jmvfc.org/event/bingo-2-2-2-2-2/2027-12-15/
LOCATION:Joppa-Magnolia VFC Co. 8 House 1\, 1403 Old Mountain Road South\, Joppa\, MD\, 21040\, United States
CATEGORIES:Bingo
ATTACH;FMTTYPE=image/jpeg:https://jmvfc.org/wp-content/uploads/2023/10/AdobeStock_95164576.jpg
END:VEVENT
BEGIN:VEVENT
DTSTART;TZID=America/New_York:20271222T170000
DTEND;TZID=America/New_York:20271222T220000
DTSTAMP:20260424T092415
CREATED:20241122T155312Z
LAST-MODIFIED:20251119T114554Z
UID:10000482-1829494800-1829512800@jmvfc.org
SUMMARY:Wednesday Night Bingo
DESCRIPTION:$590 Jackpot\n\nDoors Open 5pm\nBINGO Play Starts 7pm\n\n 
URL:https://jmvfc.org/event/bingo-2-2-2-2-2/2027-12-22/
LOCATION:Joppa-Magnolia VFC Co. 8 House 1\, 1403 Old Mountain Road South\, Joppa\, MD\, 21040\, United States
CATEGORIES:Bingo
ATTACH;FMTTYPE=image/jpeg:https://jmvfc.org/wp-content/uploads/2023/10/AdobeStock_95164576.jpg
END:VEVENT
BEGIN:VEVENT
DTSTART;TZID=America/New_York:20271229T170000
DTEND;TZID=America/New_York:20271229T220000
DTSTAMP:20260424T092415
CREATED:20241122T155312Z
LAST-MODIFIED:20251119T114554Z
UID:10000483-1830099600-1830117600@jmvfc.org
SUMMARY:Wednesday Night Bingo
DESCRIPTION:$590 Jackpot\n\nDoors Open 5pm\nBINGO Play Starts 7pm\n\n 
URL:https://jmvfc.org/event/bingo-2-2-2-2-2/2027-12-29/
LOCATION:Joppa-Magnolia VFC Co. 8 House 1\, 1403 Old Mountain Road South\, Joppa\, MD\, 21040\, United States
CATEGORIES:Bingo
ATTACH;FMTTYPE=image/jpeg:https://jmvfc.org/wp-content/uploads/2023/10/AdobeStock_95164576.jpg
END:VEVENT
BEGIN:VEVENT
DTSTART;TZID=America/New_York:20280105T170000
DTEND;TZID=America/New_York:20280105T220000
DTSTAMP:20260424T092415
CREATED:20241122T155312Z
LAST-MODIFIED:20251119T114554Z
UID:10000484-1830704400-1830722400@jmvfc.org
SUMMARY:Wednesday Night Bingo
DESCRIPTION:$590 Jackpot\n\nDoors Open 5pm\nBINGO Play Starts 7pm\n\n 
URL:https://jmvfc.org/event/bingo-2-2-2-2-2/2028-01-05/
LOCATION:Joppa-Magnolia VFC Co. 8 House 1\, 1403 Old Mountain Road South\, Joppa\, MD\, 21040\, United States
CATEGORIES:Bingo
ATTACH;FMTTYPE=image/jpeg:https://jmvfc.org/wp-content/uploads/2023/10/AdobeStock_95164576.jpg
END:VEVENT
BEGIN:VEVENT
DTSTART;TZID=America/New_York:20280112T170000
DTEND;TZID=America/New_York:20280112T220000
DTSTAMP:20260424T092415
CREATED:20241122T155312Z
LAST-MODIFIED:20251119T114554Z
UID:10000485-1831309200-1831327200@jmvfc.org
SUMMARY:Wednesday Night Bingo
DESCRIPTION:$590 Jackpot\n\nDoors Open 5pm\nBINGO Play Starts 7pm\n\n 
URL:https://jmvfc.org/event/bingo-2-2-2-2-2/2028-01-12/
LOCATION:Joppa-Magnolia VFC Co. 8 House 1\, 1403 Old Mountain Road South\, Joppa\, MD\, 21040\, United States
CATEGORIES:Bingo
ATTACH;FMTTYPE=image/jpeg:https://jmvfc.org/wp-content/uploads/2023/10/AdobeStock_95164576.jpg
END:VEVENT
BEGIN:VEVENT
DTSTART;TZID=America/New_York:20280119T170000
DTEND;TZID=America/New_York:20280119T220000
DTSTAMP:20260424T092415
CREATED:20241122T155312Z
LAST-MODIFIED:20251119T114554Z
UID:10000486-1831914000-1831932000@jmvfc.org
SUMMARY:Wednesday Night Bingo
DESCRIPTION:$590 Jackpot\n\nDoors Open 5pm\nBINGO Play Starts 7pm\n\n 
URL:https://jmvfc.org/event/bingo-2-2-2-2-2/2028-01-19/
LOCATION:Joppa-Magnolia VFC Co. 8 House 1\, 1403 Old Mountain Road South\, Joppa\, MD\, 21040\, United States
CATEGORIES:Bingo
ATTACH;FMTTYPE=image/jpeg:https://jmvfc.org/wp-content/uploads/2023/10/AdobeStock_95164576.jpg
END:VEVENT
BEGIN:VEVENT
DTSTART;TZID=America/New_York:20280126T170000
DTEND;TZID=America/New_York:20280126T220000
DTSTAMP:20260424T092415
CREATED:20241122T155312Z
LAST-MODIFIED:20251119T114554Z
UID:10000487-1832518800-1832536800@jmvfc.org
SUMMARY:Wednesday Night Bingo
DESCRIPTION:$590 Jackpot\n\nDoors Open 5pm\nBINGO Play Starts 7pm\n\n 
URL:https://jmvfc.org/event/bingo-2-2-2-2-2/2028-01-26/
LOCATION:Joppa-Magnolia VFC Co. 8 House 1\, 1403 Old Mountain Road South\, Joppa\, MD\, 21040\, United States
CATEGORIES:Bingo
ATTACH;FMTTYPE=image/jpeg:https://jmvfc.org/wp-content/uploads/2023/10/AdobeStock_95164576.jpg
END:VEVENT
BEGIN:VEVENT
DTSTART;TZID=America/New_York:20280202T170000
DTEND;TZID=America/New_York:20280202T220000
DTSTAMP:20260424T092415
CREATED:20241122T155312Z
LAST-MODIFIED:20251119T114554Z
UID:10000488-1833123600-1833141600@jmvfc.org
SUMMARY:Wednesday Night Bingo
DESCRIPTION:$590 Jackpot\n\nDoors Open 5pm\nBINGO Play Starts 7pm\n\n 
URL:https://jmvfc.org/event/bingo-2-2-2-2-2/2028-02-02/
LOCATION:Joppa-Magnolia VFC Co. 8 House 1\, 1403 Old Mountain Road South\, Joppa\, MD\, 21040\, United States
CATEGORIES:Bingo
ATTACH;FMTTYPE=image/jpeg:https://jmvfc.org/wp-content/uploads/2023/10/AdobeStock_95164576.jpg
END:VEVENT
BEGIN:VEVENT
DTSTART;TZID=America/New_York:20280209T170000
DTEND;TZID=America/New_York:20280209T220000
DTSTAMP:20260424T092415
CREATED:20241122T155312Z
LAST-MODIFIED:20251119T114554Z
UID:10000489-1833728400-1833746400@jmvfc.org
SUMMARY:Wednesday Night Bingo
DESCRIPTION:$590 Jackpot\n\nDoors Open 5pm\nBINGO Play Starts 7pm\n\n 
URL:https://jmvfc.org/event/bingo-2-2-2-2-2/2028-02-09/
LOCATION:Joppa-Magnolia VFC Co. 8 House 1\, 1403 Old Mountain Road South\, Joppa\, MD\, 21040\, United States
CATEGORIES:Bingo
ATTACH;FMTTYPE=image/jpeg:https://jmvfc.org/wp-content/uploads/2023/10/AdobeStock_95164576.jpg
END:VEVENT
BEGIN:VEVENT
DTSTART;TZID=America/New_York:20280216T170000
DTEND;TZID=America/New_York:20280216T220000
DTSTAMP:20260424T092415
CREATED:20241122T155312Z
LAST-MODIFIED:20251119T114554Z
UID:10000490-1834333200-1834351200@jmvfc.org
SUMMARY:Wednesday Night Bingo
DESCRIPTION:$590 Jackpot\n\nDoors Open 5pm\nBINGO Play Starts 7pm\n\n 
URL:https://jmvfc.org/event/bingo-2-2-2-2-2/2028-02-16/
LOCATION:Joppa-Magnolia VFC Co. 8 House 1\, 1403 Old Mountain Road South\, Joppa\, MD\, 21040\, United States
CATEGORIES:Bingo
ATTACH;FMTTYPE=image/jpeg:https://jmvfc.org/wp-content/uploads/2023/10/AdobeStock_95164576.jpg
END:VEVENT
BEGIN:VEVENT
DTSTART;TZID=America/New_York:20280223T170000
DTEND;TZID=America/New_York:20280223T220000
DTSTAMP:20260424T092415
CREATED:20241122T155312Z
LAST-MODIFIED:20251119T114554Z
UID:10000491-1834938000-1834956000@jmvfc.org
SUMMARY:Wednesday Night Bingo
DESCRIPTION:$590 Jackpot\n\nDoors Open 5pm\nBINGO Play Starts 7pm\n\n 
URL:https://jmvfc.org/event/bingo-2-2-2-2-2/2028-02-23/
LOCATION:Joppa-Magnolia VFC Co. 8 House 1\, 1403 Old Mountain Road South\, Joppa\, MD\, 21040\, United States
CATEGORIES:Bingo
ATTACH;FMTTYPE=image/jpeg:https://jmvfc.org/wp-content/uploads/2023/10/AdobeStock_95164576.jpg
END:VEVENT
BEGIN:VEVENT
DTSTART;TZID=America/New_York:20280301T170000
DTEND;TZID=America/New_York:20280301T220000
DTSTAMP:20260424T092415
CREATED:20241122T155312Z
LAST-MODIFIED:20251119T114554Z
UID:10000492-1835542800-1835560800@jmvfc.org
SUMMARY:Wednesday Night Bingo
DESCRIPTION:$590 Jackpot\n\nDoors Open 5pm\nBINGO Play Starts 7pm\n\n 
URL:https://jmvfc.org/event/bingo-2-2-2-2-2/2028-03-01/
LOCATION:Joppa-Magnolia VFC Co. 8 House 1\, 1403 Old Mountain Road South\, Joppa\, MD\, 21040\, United States
CATEGORIES:Bingo
ATTACH;FMTTYPE=image/jpeg:https://jmvfc.org/wp-content/uploads/2023/10/AdobeStock_95164576.jpg
END:VEVENT
BEGIN:VEVENT
DTSTART;TZID=America/New_York:20280308T170000
DTEND;TZID=America/New_York:20280308T220000
DTSTAMP:20260424T092415
CREATED:20241122T155312Z
LAST-MODIFIED:20251119T114554Z
UID:10000493-1836147600-1836165600@jmvfc.org
SUMMARY:Wednesday Night Bingo
DESCRIPTION:$590 Jackpot\n\nDoors Open 5pm\nBINGO Play Starts 7pm\n\n 
URL:https://jmvfc.org/event/bingo-2-2-2-2-2/2028-03-08/
LOCATION:Joppa-Magnolia VFC Co. 8 House 1\, 1403 Old Mountain Road South\, Joppa\, MD\, 21040\, United States
CATEGORIES:Bingo
ATTACH;FMTTYPE=image/jpeg:https://jmvfc.org/wp-content/uploads/2023/10/AdobeStock_95164576.jpg
END:VEVENT
BEGIN:VEVENT
DTSTART;TZID=America/New_York:20280315T170000
DTEND;TZID=America/New_York:20280315T220000
DTSTAMP:20260424T092415
CREATED:20241122T155312Z
LAST-MODIFIED:20251119T114554Z
UID:10000494-1836752400-1836770400@jmvfc.org
SUMMARY:Wednesday Night Bingo
DESCRIPTION:$590 Jackpot\n\nDoors Open 5pm\nBINGO Play Starts 7pm\n\n 
URL:https://jmvfc.org/event/bingo-2-2-2-2-2/2028-03-15/
LOCATION:Joppa-Magnolia VFC Co. 8 House 1\, 1403 Old Mountain Road South\, Joppa\, MD\, 21040\, United States
CATEGORIES:Bingo
ATTACH;FMTTYPE=image/jpeg:https://jmvfc.org/wp-content/uploads/2023/10/AdobeStock_95164576.jpg
END:VEVENT
BEGIN:VEVENT
DTSTART;TZID=America/New_York:20280322T170000
DTEND;TZID=America/New_York:20280322T220000
DTSTAMP:20260424T092415
CREATED:20241122T155312Z
LAST-MODIFIED:20251119T114554Z
UID:10000495-1837357200-1837375200@jmvfc.org
SUMMARY:Wednesday Night Bingo
DESCRIPTION:$590 Jackpot\n\nDoors Open 5pm\nBINGO Play Starts 7pm\n\n 
URL:https://jmvfc.org/event/bingo-2-2-2-2-2/2028-03-22/
LOCATION:Joppa-Magnolia VFC Co. 8 House 1\, 1403 Old Mountain Road South\, Joppa\, MD\, 21040\, United States
CATEGORIES:Bingo
ATTACH;FMTTYPE=image/jpeg:https://jmvfc.org/wp-content/uploads/2023/10/AdobeStock_95164576.jpg
END:VEVENT
BEGIN:VEVENT
DTSTART;TZID=America/New_York:20280329T170000
DTEND;TZID=America/New_York:20280329T220000
DTSTAMP:20260424T092415
CREATED:20241122T155312Z
LAST-MODIFIED:20251119T114554Z
UID:10000496-1837962000-1837980000@jmvfc.org
SUMMARY:Wednesday Night Bingo
DESCRIPTION:$590 Jackpot\n\nDoors Open 5pm\nBINGO Play Starts 7pm\n\n 
URL:https://jmvfc.org/event/bingo-2-2-2-2-2/2028-03-29/
LOCATION:Joppa-Magnolia VFC Co. 8 House 1\, 1403 Old Mountain Road South\, Joppa\, MD\, 21040\, United States
CATEGORIES:Bingo
ATTACH;FMTTYPE=image/jpeg:https://jmvfc.org/wp-content/uploads/2023/10/AdobeStock_95164576.jpg
END:VEVENT
BEGIN:VEVENT
DTSTART;TZID=America/New_York:20280405T170000
DTEND;TZID=America/New_York:20280405T220000
DTSTAMP:20260424T092415
CREATED:20241122T155312Z
LAST-MODIFIED:20251119T114554Z
UID:10000497-1838566800-1838584800@jmvfc.org
SUMMARY:Wednesday Night Bingo
DESCRIPTION:$590 Jackpot\n\nDoors Open 5pm\nBINGO Play Starts 7pm\n\n 
URL:https://jmvfc.org/event/bingo-2-2-2-2-2/2028-04-05/
LOCATION:Joppa-Magnolia VFC Co. 8 House 1\, 1403 Old Mountain Road South\, Joppa\, MD\, 21040\, United States
CATEGORIES:Bingo
ATTACH;FMTTYPE=image/jpeg:https://jmvfc.org/wp-content/uploads/2023/10/AdobeStock_95164576.jpg
END:VEVENT
END:VCALENDAR